Package: ToxicoGx Version: 2.11.0 Command: E:\biocbuild\bbs-3.21-bioc\R\bin\R.exe CMD INSTALL ToxicoGx StartedAt: 2025-02-19 16:36:57 -0500 (Wed, 19 Feb 2025) EndedAt: 2025-02-19 16:38:12 -0500 (Wed, 19 Feb 2025) EllapsedTime: 74.6 seconds RetCode: 0 Status: OK