Package: ToxicoGx Version: 2.11.0 Command: /Library/Frameworks/R.framework/Resources/bin/R CMD build --keep-empty-dirs --no-resave-data ToxicoGx StartedAt: 2025-02-20 17:48:46 -0500 (Thu, 20 Feb 2025) EndedAt: 2025-02-20 17:49:08 -0500 (Thu, 20 Feb 2025) EllapsedTime: 21.3 seconds RetCode: 0 Status: OK PackageFile: ToxicoGx_2.11.0.tar.gz PackageFileSize: 3.936 MiB