Package: TnT Version: 1.29.0 Command: chmod a+r TnT -R && E:\biocbuild\bbs-3.21-bioc\R\bin\R.exe CMD build --keep-empty-dirs --no-resave-data TnT StartedAt: 2025-02-20 22:17:08 -0500 (Thu, 20 Feb 2025) EndedAt: 2025-02-20 22:17:45 -0500 (Thu, 20 Feb 2025) EllapsedTime: 36.8 seconds RetCode: 0 Status: OK PackageFile: TnT_1.29.0.tar.gz PackageFileSize: 230.9 KiB