Package: TnT Version: 1.29.0 Command: /home/biocbuild/bbs-3.21-bioc/R/bin/R CMD INSTALL TnT StartedAt: 2025-02-20 15:25:05 -0500 (Thu, 20 Feb 2025) EndedAt: 2025-02-20 15:25:17 -0500 (Thu, 20 Feb 2025) EllapsedTime: 12.8 seconds RetCode: 0 Status: OK