Package: TnT Version: 1.29.0 Command: /home/biocbuild/bbs-3.21-bioc/R/bin/R CMD build --keep-empty-dirs --no-resave-data TnT StartedAt: 2025-02-20 19:36:33 -0500 (Thu, 20 Feb 2025) EndedAt: 2025-02-20 19:36:53 -0500 (Thu, 20 Feb 2025) EllapsedTime: 20.0 seconds RetCode: 0 Status: OK PackageFile: TnT_1.29.0.tar.gz PackageFileSize: 230.5 KiB