Package: TnT Version: 1.29.0 Command: /Library/Frameworks/R.framework/Resources/bin/R CMD INSTALL TnT StartedAt: 2025-02-20 15:14:52 -0500 (Thu, 20 Feb 2025) EndedAt: 2025-02-20 15:14:58 -0500 (Thu, 20 Feb 2025) EllapsedTime: 5.1 seconds RetCode: 0 Status: OK