Package: TissueEnrich Version: 1.27.0 Command: rm -rf TissueEnrich.buildbin-libdir && mkdir TissueEnrich.buildbin-libdir && E:\biocbuild\bbs-3.21-bioc\R\bin\R.exe CMD INSTALL --build --library=TissueEnrich.buildbin-libdir TissueEnrich_1.27.0.tar.gz StartedAt: 2025-02-21 09:16:38 -0500 (Fri, 21 Feb 2025) EndedAt: 2025-02-21 09:17:19 -0500 (Fri, 21 Feb 2025) EllapsedTime: 40.9 seconds RetCode: 0 Status: OK PackageFile: TissueEnrich_1.27.0.zip PackageFileSize: 3.363 MiB