Package: TissueEnrich Version: 1.27.0 Command: /home/biocbuild/bbs-3.21-bioc/R/bin/R CMD INSTALL TissueEnrich StartedAt: 2025-02-20 15:41:46 -0500 (Thu, 20 Feb 2025) EndedAt: 2025-02-20 15:42:14 -0500 (Thu, 20 Feb 2025) EllapsedTime: 28.2 seconds RetCode: 0 Status: OK