Package: TissueEnrich Version: 1.27.0 Command: rm -rf TissueEnrich.buildbin-libdir && mkdir TissueEnrich.buildbin-libdir && /Users/biocbuild/BBS/utils/build-universal.sh TissueEnrich_1.27.0.tar.gz /Library/Frameworks/R.framework/Resources/bin/R TissueEnrich.buildbin-libdir StartedAt: 2025-02-20 22:38:16 -0500 (Thu, 20 Feb 2025) EndedAt: 2025-02-20 22:38:30 -0500 (Thu, 20 Feb 2025) EllapsedTime: 13.4 seconds RetCode: 0 Status: OK PackageFile: TissueEnrich_1.27.0.tgz PackageFileSize: 3.629 MiB