Package: TileDBArray Version: 1.17.0 Command: /home/biocbuild/bbs-3.21-bioc/R/bin/R CMD INSTALL TileDBArray StartedAt: 2025-02-20 15:24:50 -0500 (Thu, 20 Feb 2025) EndedAt: 2025-02-20 15:25:11 -0500 (Thu, 20 Feb 2025) EllapsedTime: 20.1 seconds RetCode: 0 Status: OK