Package: TileDBArray Version: 1.17.0 Command: /home/biocbuild/bbs-3.21-bioc/R/bin/R CMD check --install=check:TileDBArray.install-out.txt --library=/home/biocbuild/bbs-3.21-bioc/R/site-library --timings TileDBArray_1.17.0.tar.gz StartedAt: 2025-02-21 02:33:24 -0500 (Fri, 21 Feb 2025) EndedAt: 2025-02-21 02:35:50 -0500 (Fri, 21 Feb 2025) EllapsedTime: 146.2 seconds RetCode: 0 Status: OK CheckDir: TileDBArray.Rcheck Warnings: 0