Package: TileDBArray Version: 1.17.0 Command: /home/biocbuild/bbs-3.21-bioc/R/bin/R CMD build --keep-empty-dirs --no-resave-data TileDBArray StartedAt: 2025-02-20 19:35:47 -0500 (Thu, 20 Feb 2025) EndedAt: 2025-02-20 19:36:17 -0500 (Thu, 20 Feb 2025) EllapsedTime: 30.0 seconds RetCode: 0 Status: OK PackageFile: TileDBArray_1.17.0.tar.gz PackageFileSize: 305.2 KiB