Package: TileDBArray Version: 1.17.0 Command: rm -rf TileDBArray.buildbin-libdir && mkdir TileDBArray.buildbin-libdir && /Users/biocbuild/BBS/utils/build-universal.sh TileDBArray_1.17.0.tar.gz /Library/Frameworks/R.framework/Resources/bin/R TileDBArray.buildbin-libdir StartedAt: 2025-02-20 00:58:44 -0500 (Thu, 20 Feb 2025) EndedAt: 2025-02-20 00:59:16 -0500 (Thu, 20 Feb 2025) EllapsedTime: 31.4 seconds RetCode: 0 Status: OK PackageFile: TileDBArray_1.17.0.tgz PackageFileSize: 748.1 KiB