Package: TileDBArray Version: 1.18.0 Command: /Library/Frameworks/R.framework/Resources/bin/R CMD build --keep-empty-dirs --no-resave-data TileDBArray StartedAt: 2025-10-07 11:32:40 -0400 (Tue, 07 Oct 2025) EndedAt: 2025-10-07 11:33:29 -0400 (Tue, 07 Oct 2025) EllapsedTime: 48.6 seconds RetCode: 0 Status: OK PackageFile: TileDBArray_1.18.0.tar.gz PackageFileSize: 305 KiB