Package: TargetSearch Version: 2.9.1 Command: E:\biocbuild\bbs-3.21-bioc\R\bin\R.exe CMD INSTALL TargetSearch StartedAt: 2025-02-20 15:23:38 -0500 (Thu, 20 Feb 2025) EndedAt: 2025-02-20 15:26:03 -0500 (Thu, 20 Feb 2025) EllapsedTime: 145.0 seconds RetCode: 0 Status: OK