Package: TargetSearch Version: 2.9.1 Command: chmod a+r TargetSearch -R && E:\biocbuild\bbs-3.21-bioc\R\bin\R.exe CMD build --keep-empty-dirs --no-resave-data TargetSearch StartedAt: 2025-02-20 22:12:12 -0500 (Thu, 20 Feb 2025) EndedAt: 2025-02-20 22:14:38 -0500 (Thu, 20 Feb 2025) EllapsedTime: 146.2 seconds RetCode: 0 Status: OK PackageFile: TargetSearch_2.9.1.tar.gz PackageFileSize: 719.9 KiB