Package: TargetSearch Version: 2.9.1 Command: /Library/Frameworks/R.framework/Resources/bin/R CMD check --install=check:TargetSearch.install-out.txt --library=/Library/Frameworks/R.framework/Resources/library --no-vignettes --timings TargetSearch_2.9.1.tar.gz StartedAt: 2025-02-19 23:42:48 -0500 (Wed, 19 Feb 2025) EndedAt: 2025-02-19 23:44:23 -0500 (Wed, 19 Feb 2025) EllapsedTime: 95.2 seconds RetCode: 0 Status: OK CheckDir: TargetSearch.Rcheck Warnings: 0