Package: TargetDecoy Version: 1.13.0 Command: /home/biocbuild/bbs-3.21-bioc/R/bin/R CMD build --keep-empty-dirs --no-resave-data TargetDecoy StartedAt: 2025-02-20 19:32:58 -0500 (Thu, 20 Feb 2025) EndedAt: 2025-02-20 19:33:32 -0500 (Thu, 20 Feb 2025) EllapsedTime: 34.0 seconds RetCode: 0 Status: OK PackageFile: TargetDecoy_1.13.0.tar.gz PackageFileSize: 4.094 MiB