Package: TargetDecoy Version: 1.13.0 Command: /Library/Frameworks/R.framework/Resources/bin/R CMD build --keep-empty-dirs --no-resave-data TargetDecoy StartedAt: 2025-02-20 17:46:31 -0500 (Thu, 20 Feb 2025) EndedAt: 2025-02-20 17:46:46 -0500 (Thu, 20 Feb 2025) EllapsedTime: 15.2 seconds RetCode: 0 Status: OK PackageFile: TargetDecoy_1.13.0.tar.gz PackageFileSize: 4.172 MiB