Package: TVTB Version: 1.33.0 Command: /home/biocbuild/bbs-3.21-bioc/R/bin/R CMD build --keep-empty-dirs --no-resave-data TVTB StartedAt: 2025-02-20 19:40:01 -0500 (Thu, 20 Feb 2025) EndedAt: 2025-02-20 19:41:40 -0500 (Thu, 20 Feb 2025) EllapsedTime: 99.1 seconds RetCode: 0 Status: OK PackageFile: TVTB_1.33.0.tar.gz PackageFileSize: 1.528 MiB