Package: TVTB Version: 1.33.0 Command: /Library/Frameworks/R.framework/Resources/bin/R CMD check --install=check:TVTB.install-out.txt --library=/Library/Frameworks/R.framework/Resources/library --no-vignettes --timings TVTB_1.33.0.tar.gz StartedAt: 2025-02-18 23:48:27 -0500 (Tue, 18 Feb 2025) EndedAt: 2025-02-18 23:55:36 -0500 (Tue, 18 Feb 2025) EllapsedTime: 429.3 seconds RetCode: 0 Status: OK CheckDir: TVTB.Rcheck Warnings: 0