Package: TVTB Version: 1.33.0 Command: /Library/Frameworks/R.framework/Resources/bin/R CMD INSTALL TVTB StartedAt: 2025-02-18 15:17:06 -0500 (Tue, 18 Feb 2025) EndedAt: 2025-02-18 15:17:28 -0500 (Tue, 18 Feb 2025) EllapsedTime: 22.1 seconds RetCode: 0 Status: OK