Package: TVTB Version: 1.33.0 Command: /Library/Frameworks/R.framework/Resources/bin/R CMD build --keep-empty-dirs --no-resave-data TVTB StartedAt: 2025-02-18 17:53:51 -0500 (Tue, 18 Feb 2025) EndedAt: 2025-02-18 17:54:33 -0500 (Tue, 18 Feb 2025) EllapsedTime: 41.5 seconds RetCode: 0 Status: OK PackageFile: TVTB_1.33.0.tar.gz PackageFileSize: 1.449 MiB