Package: TTMap Version: 1.29.0 Command: chmod a+r TTMap -R && E:\biocbuild\bbs-3.21-bioc\R\bin\R.exe CMD build --keep-empty-dirs --no-resave-data TTMap StartedAt: 2025-02-20 22:22:15 -0500 (Thu, 20 Feb 2025) EndedAt: 2025-02-20 22:23:20 -0500 (Thu, 20 Feb 2025) EllapsedTime: 65.3 seconds RetCode: 0 Status: OK PackageFile: TTMap_1.29.0.tar.gz PackageFileSize: 1.612 MiB