Package: TTMap Version: 1.29.0 Command: /home/biocbuild/bbs-3.21-bioc/R/bin/R CMD build --keep-empty-dirs --no-resave-data TTMap StartedAt: 2025-02-19 19:37:11 -0500 (Wed, 19 Feb 2025) EndedAt: 2025-02-19 19:37:57 -0500 (Wed, 19 Feb 2025) EllapsedTime: 46.1 seconds RetCode: 0 Status: OK PackageFile: TTMap_1.29.0.tar.gz PackageFileSize: 1.61 MiB