Package: TTMap Version: 1.29.0 Command: /Library/Frameworks/R.framework/Resources/bin/R CMD INSTALL TTMap StartedAt: 2025-02-19 15:24:42 -0500 (Wed, 19 Feb 2025) EndedAt: 2025-02-19 15:25:13 -0500 (Wed, 19 Feb 2025) EllapsedTime: 30.7 seconds RetCode: 0 Status: OK