Package: TTMap Version: 1.29.0 Command: rm -rf TTMap.buildbin-libdir && mkdir TTMap.buildbin-libdir && /Users/biocbuild/BBS/utils/build-universal.sh TTMap_1.29.0.tar.gz /Library/Frameworks/R.framework/Resources/bin/R TTMap.buildbin-libdir StartedAt: 2025-02-20 00:59:45 -0500 (Thu, 20 Feb 2025) EndedAt: 2025-02-20 01:00:17 -0500 (Thu, 20 Feb 2025) EllapsedTime: 32.2 seconds RetCode: 0 Status: OK PackageFile: TTMap_1.29.0.tgz PackageFileSize: 1.391 MiB