Package: TTMap Version: 1.29.0 Command: /home/biocbuild/R/R/bin/R CMD INSTALL TTMap StartedAt: 2025-01-29 20:06:29 -0000 (Wed, 29 Jan 2025) EndedAt: 2025-01-29 20:07:00 -0000 (Wed, 29 Jan 2025) EllapsedTime: 31.4 seconds RetCode: 0 Status: OK