Package: TTMap Version: 1.29.0 Command: /home/biocbuild/R/R/bin/R CMD check --install=check:TTMap.install-out.txt --library=/home/biocbuild/R/R/site-library --no-vignettes --timings TTMap_1.29.0.tar.gz StartedAt: 2025-01-27 13:43:22 -0000 (Mon, 27 Jan 2025) EndedAt: 2025-01-27 13:48:46 -0000 (Mon, 27 Jan 2025) EllapsedTime: 323.8 seconds RetCode: 0 Status: OK CheckDir: TTMap.Rcheck Warnings: 0