Package: TTMap Version: 1.29.0 Command: /home/biocbuild/R/R/bin/R CMD build --keep-empty-dirs --no-resave-data TTMap StartedAt: 2025-01-28 03:02:57 -0000 (Tue, 28 Jan 2025) EndedAt: 2025-01-28 03:04:00 -0000 (Tue, 28 Jan 2025) EllapsedTime: 63.0 seconds RetCode: 0 Status: OK PackageFile: TTMap_1.29.0.tar.gz PackageFileSize: 1.594 MiB