Package: TSAR Version: 1.5.0 Command: E:\biocbuild\bbs-3.21-bioc\R\bin\R.exe CMD check --no-multiarch --install=check:TSAR.install-out.txt --library=E:\biocbuild\bbs-3.21-bioc\R\library --no-vignettes --timings TSAR_1.5.0.tar.gz StartedAt: 2025-02-21 06:44:41 -0500 (Fri, 21 Feb 2025) EndedAt: 2025-02-21 06:47:57 -0500 (Fri, 21 Feb 2025) EllapsedTime: 195.9 seconds RetCode: 0 Status: OK CheckDir: TSAR.Rcheck Warnings: 0