Package: TSAR Version: 1.5.0 Command: chmod a+r TSAR -R && E:\biocbuild\bbs-3.21-bioc\R\bin\R.exe CMD build --keep-empty-dirs --no-resave-data TSAR StartedAt: 2025-02-20 22:21:52 -0500 (Thu, 20 Feb 2025) EndedAt: 2025-02-20 22:24:49 -0500 (Thu, 20 Feb 2025) EllapsedTime: 177.7 seconds RetCode: 0 Status: OK PackageFile: TSAR_1.5.0.tar.gz PackageFileSize: 3.549 MiB