Package: TSAR Version: 1.5.0 Command: /home/biocbuild/bbs-3.21-bioc/R/bin/R CMD INSTALL TSAR StartedAt: 2025-02-20 15:17:52 -0500 (Thu, 20 Feb 2025) EndedAt: 2025-02-20 15:18:03 -0500 (Thu, 20 Feb 2025) EllapsedTime: 10.6 seconds RetCode: 0 Status: OK