Package: TSAR Version: 1.5.0 Command: /home/biocbuild/bbs-3.21-bioc/R/bin/R CMD check --install=check:TSAR.install-out.txt --library=/home/biocbuild/bbs-3.21-bioc/R/site-library --timings TSAR_1.5.0.tar.gz StartedAt: 2025-02-21 02:43:54 -0500 (Fri, 21 Feb 2025) EndedAt: 2025-02-21 02:48:03 -0500 (Fri, 21 Feb 2025) EllapsedTime: 249.5 seconds RetCode: 0 Status: OK CheckDir: TSAR.Rcheck Warnings: 0