Package: TSAR Version: 1.5.0 Command: /home/biocbuild/bbs-3.21-bioc/R/bin/R CMD build --keep-empty-dirs --no-resave-data TSAR StartedAt: 2025-02-20 19:39:48 -0500 (Thu, 20 Feb 2025) EndedAt: 2025-02-20 19:41:47 -0500 (Thu, 20 Feb 2025) EllapsedTime: 119.1 seconds RetCode: 0 Status: OK PackageFile: TSAR_1.5.0.tar.gz PackageFileSize: 3.925 MiB