Package: TSAR Version: 1.5.0 Command: rm -rf TSAR.buildbin-libdir && mkdir TSAR.buildbin-libdir && /Users/biocbuild/BBS/utils/build-universal.sh TSAR_1.5.0.tar.gz /Library/Frameworks/R.framework/Resources/bin/R TSAR.buildbin-libdir StartedAt: 2025-02-21 00:58:21 -0500 (Fri, 21 Feb 2025) EndedAt: 2025-02-21 00:58:39 -0500 (Fri, 21 Feb 2025) EllapsedTime: 18.5 seconds RetCode: 0 Status: OK PackageFile: TSAR_1.5.0.tgz PackageFileSize: 3.978 MiB