Package: TSAR Version: 1.5.0 Command: /Library/Frameworks/R.framework/Resources/bin/R CMD INSTALL TSAR StartedAt: 2025-02-21 15:28:40 -0500 (Fri, 21 Feb 2025) EndedAt: 2025-02-21 15:28:44 -0500 (Fri, 21 Feb 2025) EllapsedTime: 4.2 seconds RetCode: 0 Status: OK