Package: TRONCO Version: 2.39.0 Command: /home/biocbuild/bbs-3.21-bioc/R/bin/R CMD check --install=check:TRONCO.install-out.txt --library=/home/biocbuild/bbs-3.21-bioc/R/site-library --timings TRONCO_2.39.0.tar.gz StartedAt: 2025-02-20 03:24:02 -0500 (Thu, 20 Feb 2025) EndedAt: 2025-02-20 03:27:48 -0500 (Thu, 20 Feb 2025) EllapsedTime: 226.3 seconds RetCode: 0 Status: OK CheckDir: TRONCO.Rcheck Warnings: 0