Package: TRONCO Version: 2.39.0 Command: /Library/Frameworks/R.framework/Resources/bin/R CMD check --install=check:TRONCO.install-out.txt --library=/Library/Frameworks/R.framework/Resources/library --no-vignettes --timings TRONCO_2.39.0.tar.gz StartedAt: 2025-02-19 21:58:28 -0500 (Wed, 19 Feb 2025) EndedAt: 2025-02-19 21:59:33 -0500 (Wed, 19 Feb 2025) EllapsedTime: 64.8 seconds RetCode: 0 Status: OK CheckDir: TRONCO.Rcheck Warnings: 0