Package: TREG Version: 1.11.0 Command: chmod a+r TREG -R && E:\biocbuild\bbs-3.21-bioc\R\bin\R.exe CMD build --keep-empty-dirs --no-resave-data TREG StartedAt: 2025-02-19 22:10:59 -0500 (Wed, 19 Feb 2025) EndedAt: 2025-02-19 22:13:14 -0500 (Wed, 19 Feb 2025) EllapsedTime: 134.7 seconds RetCode: 0 Status: OK PackageFile: TREG_1.11.0.tar.gz PackageFileSize: 1.665 MiB