Package: TREG Version: 1.11.0 Command: /Library/Frameworks/R.framework/Resources/bin/R CMD INSTALL TREG StartedAt: 2025-02-19 15:05:07 -0500 (Wed, 19 Feb 2025) EndedAt: 2025-02-19 15:05:16 -0500 (Wed, 19 Feb 2025) EllapsedTime: 8.7 seconds RetCode: 0 Status: OK