Package: TPP2D Version: 1.23.0 Command: /home/biocbuild/bbs-3.21-bioc/R/bin/R CMD INSTALL TPP2D StartedAt: 2025-02-19 15:09:42 -0500 (Wed, 19 Feb 2025) EndedAt: 2025-02-19 15:09:49 -0500 (Wed, 19 Feb 2025) EllapsedTime: 7.0 seconds RetCode: 0 Status: OK