Package: TPP2D Version: 1.23.0 Command: /home/biocbuild/bbs-3.21-bioc/R/bin/R CMD check --install=check:TPP2D.install-out.txt --library=/home/biocbuild/bbs-3.21-bioc/R/site-library --timings TPP2D_1.23.0.tar.gz StartedAt: 2025-02-20 03:16:15 -0500 (Thu, 20 Feb 2025) EndedAt: 2025-02-20 03:18:17 -0500 (Thu, 20 Feb 2025) EllapsedTime: 121.2 seconds RetCode: 0 Status: OK CheckDir: TPP2D.Rcheck Warnings: 0