Package: TPP2D Version: 1.23.0 Command: /Library/Frameworks/R.framework/Resources/bin/R CMD check --install=check:TPP2D.install-out.txt --library=/Library/Frameworks/R.framework/Resources/library --no-vignettes --timings TPP2D_1.23.0.tar.gz StartedAt: 2025-02-19 21:54:19 -0500 (Wed, 19 Feb 2025) EndedAt: 2025-02-19 21:54:59 -0500 (Wed, 19 Feb 2025) EllapsedTime: 39.5 seconds RetCode: 0 Status: OK CheckDir: TPP2D.Rcheck Warnings: 0