Package: TPP Version: 3.35.0 Command: /Library/Frameworks/R.framework/Resources/bin/R CMD check --install=check:TPP.install-out.txt --library=/Library/Frameworks/R.framework/Resources/library --no-vignettes --timings TPP_3.35.0.tar.gz StartedAt: 2025-02-19 23:49:23 -0500 (Wed, 19 Feb 2025) EndedAt: 2025-02-19 23:57:43 -0500 (Wed, 19 Feb 2025) EllapsedTime: 500.4 seconds RetCode: 0 Status: OK CheckDir: TPP.Rcheck Warnings: 0