Package: TPP Version: 3.35.0 Command: /Library/Frameworks/R.framework/Resources/bin/R CMD build --keep-empty-dirs --no-resave-data TPP StartedAt: 2025-02-18 18:30:00 -0500 (Tue, 18 Feb 2025) EndedAt: 2025-02-18 18:31:42 -0500 (Tue, 18 Feb 2025) EllapsedTime: 102.8 seconds RetCode: 0 Status: OK PackageFile: TPP_3.35.0.tar.gz PackageFileSize: 8.43 MiB