Package: TPP Version: 3.35.0 Command: /Library/Frameworks/R.framework/Resources/bin/R CMD check --install=check:TPP.install-out.txt --library=/Library/Frameworks/R.framework/Resources/library --no-vignettes --timings TPP_3.35.0.tar.gz StartedAt: 2025-02-18 21:54:17 -0500 (Tue, 18 Feb 2025) EndedAt: 2025-02-18 21:56:48 -0500 (Tue, 18 Feb 2025) EllapsedTime: 150.8 seconds RetCode: 0 Status: OK CheckDir: TPP.Rcheck Warnings: 0