Package: TOP Version: 1.7.0 Command: E:\biocbuild\bbs-3.21-bioc\R\bin\R.exe CMD INSTALL TOP StartedAt: 2025-02-17 16:17:53 -0500 (Mon, 17 Feb 2025) EndedAt: 2025-02-17 16:18:43 -0500 (Mon, 17 Feb 2025) EllapsedTime: 50.0 seconds RetCode: 0 Status: OK