Package: TOP Version: 1.7.0 Command: chmod a+r TOP -R && E:\biocbuild\bbs-3.21-bioc\R\bin\R.exe CMD build --keep-empty-dirs --no-resave-data TOP StartedAt: 2025-02-17 21:58:58 -0500 (Mon, 17 Feb 2025) EndedAt: 2025-02-17 22:00:36 -0500 (Mon, 17 Feb 2025) EllapsedTime: 97.8 seconds RetCode: 0 Status: OK PackageFile: TOP_1.7.0.tar.gz PackageFileSize: 342.8 KiB