Package: TOP Version: 1.7.0 Command: /Library/Frameworks/R.framework/Resources/bin/R CMD INSTALL TOP StartedAt: 2025-02-17 15:43:35 -0500 (Mon, 17 Feb 2025) EndedAt: 2025-02-17 15:44:18 -0500 (Mon, 17 Feb 2025) EllapsedTime: 42.9 seconds RetCode: 0 Status: OK